BEGIN:VCALENDAR
VERSION:2.0
PRODID:-//ChamberMaster//Event Calendar 2.0//EN
METHOD:PUBLISH
X-PUBLISHED-TTL:P3D
REFRESH-INTERVAL:P3D
CALSCALE:GREGORIAN
BEGIN:VEVENT
DTSTART;VALUE=DATE:20170127
DTEND;VALUE=DATE:20170128
TRANSP:TRANSPARENT
X-MICROSOFT-CDO-ALLDAYEVENT:TRUE
SUMMARY:2016 Annual Awards Dinner
DESCRIPTION:The Siesta Key Chamber invites you to join us for the Annual Meeting and Awards Dinner to celebrate another great year in business as we announce the winners of the 2016 Business of the Year Awards.
X-ALT-DESC;FMTTYPE=text/html:The Siesta Key Chamber invites you to join us for the Annual Meeting and Awards Dinner to celebrate another great year in business as we announce the winners of the 2016 Business of the Year Awards.
LOCATION:TPC Prestancia Clubhouse 4409 Tournament Players Club Drive Sarasota\, FL 34238
UID:e.2312.1069
SEQUENCE:3
DTSTAMP:20260419T192028Z
URL:https://my.siestakeychamber.com/events/details/2016-annual-awards-dinner-1069
END:VEVENT

END:VCALENDAR
