BEGIN:VCALENDAR
VERSION:2.0
PRODID:-//ChamberMaster//Event Calendar 2.0//EN
METHOD:PUBLISH
X-PUBLISHED-TTL:P3D
REFRESH-INTERVAL:P3D
CALSCALE:GREGORIAN
BEGIN:VEVENT
DTSTART:20160502T143000Z
DTEND:20160502T220000Z
X-MICROSOFT-CDO-ALLDAYEVENT:FALSE
SUMMARY:2016 Annual Golf Tournament
DESCRIPTION:The Chamber has once again partnered with The Founders Club to offer an unforgettable private outing on Monday\, May 2nd with a 12:00 PM shotgun start.\n\n \n\nWe hope you or your business can join us by sponsoring\, donating and attending our golf tournament. However\, if you can't attend\, please consider donating or being a tournament sponsor. All donations are welcomed and sponsorship opportunities are available.\n\n \n\nThere is a limited number of sponsorship and teams available so please register as soon as possible. This year we are offering an early team or single player registration discount if signed up by March 1st. Thank you in advance for your support of this fundraiser.
X-ALT-DESC;FMTTYPE=text/html:<div style="color:rgb(255\, 255\, 255)\;font-size:16px\;font-family:Century Gothic\, ITC Avant Garde\, Arial\, Helvetica\, sans-serif\;"><span style="color:#000000\;">The Chamber has once again partnered with&nbsp\;<strong>The</strong><strong> Founders Club</strong>&nbsp\;to offer an unforgettable private outing on&nbsp\;<strong>Monday\, May 2nd</strong>&nbsp\;with a 12:00 PM shotgun start.</span></div>\n\n<div style="color:rgb(255\, 255\, 255)\;font-size:16px\;font-family:Century Gothic\, ITC Avant Garde\, Arial\, Helvetica\, sans-serif\;">&nbsp\;</div>\n\n<div style="color:rgb(255\, 255\, 255)\;font-size:16px\;font-family:Century Gothic\, ITC Avant Garde\, Arial\, Helvetica\, sans-serif\;"><span style="color:#000000\;">We hope you or your business can join us by&nbsp\;<span style="text-decoration:underline\;"><em><strong>sponsoring</strong></em></span><span style="text-decoration:underline\;"><em><strong>\, donating and attending</strong></em></span>&nbsp\;our golf tournament. However\, if you can&#39\;t attend\, please consider donating or being a tournament sponsor. All donations are welcomed and sponsorship opportunities are available.</span></div>\n\n<div style="color:rgb(255\, 255\, 255)\;font-size:16px\;font-family:Century Gothic\, ITC Avant Garde\, Arial\, Helvetica\, sans-serif\;">&nbsp\;</div>\n\n<div style="color:rgb(255\, 255\, 255)\;font-size:16px\;font-family:Century Gothic\, ITC Avant Garde\, Arial\, Helvetica\, sans-serif\;"><span style="color:#000000\;">There is a limited number of sponsorship and teams available so please register as soon as possible.<strong>&nbsp\;This year we are offering an early team or single player registration discount if signed up by March 1st.</strong>&nbsp\;Thank you in advance for your support of this fundraiser.</span></div>\n
LOCATION:3800 Golf Hall Drive\, Sarasota\, FL 34240
UID:e.2312.179
SEQUENCE:3
DTSTAMP:20260419T185208Z
URL:https://my.siestakeychamber.com/events/details/2016-annual-golf-tournament-05-02-2016-179
END:VEVENT

END:VCALENDAR
