BEGIN:VCALENDAR
VERSION:2.0
PRODID:-//ChamberMaster//Event Calendar 2.0//EN
METHOD:PUBLISH
X-PUBLISHED-TTL:P3D
REFRESH-INTERVAL:P3D
CALSCALE:GREGORIAN
BEGIN:VEVENT
DTSTART:20161104T220000Z
DTEND:20161105T020000Z
X-MICROSOFT-CDO-ALLDAYEVENT:FALSE
SUMMARY:2016 SandFest
DESCRIPTION:The Siesta Key Chamber of Commerce's annual themed dinner/dance held at the Siesta Key Public Beach. The theme this year is a Flashback to the 80s and the event will feature food and drinks\, a silent auction\, and a gorgeous gulf sunset as a backdrop.
X-ALT-DESC;FMTTYPE=text/html:The Siesta Key Chamber of Commerce&#39\;s annual themed dinner/dance held at the Siesta Key Public Beach. The theme this year is a Flashback to the 80s and the event will feature food and drinks\, a silent auction\, and a gorgeous gulf sunset as a backdrop.
LOCATION:The Siesta Key Public Beach 948 Beach Road Siesta Key\, FL 34242
UID:e.2312.1064
SEQUENCE:3
DTSTAMP:20260419T223716Z
URL:https://my.siestakeychamber.com/events/details/2016-sandfest-1064
END:VEVENT

END:VCALENDAR
