BEGIN:VCALENDAR
VERSION:2.0
PRODID:-//ChamberMaster//Event Calendar 2.0//EN
METHOD:PUBLISH
X-PUBLISHED-TTL:P3D
REFRESH-INTERVAL:P3D
CALSCALE:GREGORIAN
BEGIN:VEVENT
DTSTART:20160507T123000Z
DTEND:20160507T170000Z
X-MICROSOFT-CDO-ALLDAYEVENT:FALSE
SUMMARY:44th Annual Amateur Sand Sculpting Contest
DESCRIPTION:44th Annual Amateur Sand Sculpting Contest on the white sandy beach of Siesta Key Public Beach
X-ALT-DESC;FMTTYPE=text/html:44th&nbsp\;Annual Amateur Sand Sculpting Contest on the white sandy beach of Siesta Key Public Beach
LOCATION:Siesta Key Beach
UID:e.2312.409
SEQUENCE:3
DTSTAMP:20260419T185541Z
URL:https://my.siestakeychamber.com/events/details/44th-annual-amateur-sand-sculpting-contest-05-07-2016-409
END:VEVENT

END:VCALENDAR
