BEGIN:VCALENDAR
VERSION:2.0
PRODID:-//ChamberMaster//Event Calendar 2.0//EN
METHOD:PUBLISH
X-PUBLISHED-TTL:P3D
REFRESH-INTERVAL:P3D
CALSCALE:GREGORIAN
BEGIN:VEVENT
DTSTART:20170506T120000Z
DTEND:20170506T180000Z
X-MICROSOFT-CDO-ALLDAYEVENT:FALSE
SUMMARY:45th Annual Amateur Sand Sculpting Contest
DESCRIPTION:Come enjoy some fun\, sun\, and sand at the 45th annual Siesta Key Amateur Sand Sculpting Contest!  This free\, family-friendly event is open to competitors of all ages and skill levels.  Cash prizes will be available and are sponsored by Friends of Sarasota County Parks and the Siesta Key Chamber of Commerce.\n\n\n\nCompeting categories include adult individuals\, adult teams\, children (10 years and younger) and youths (ages 11-17).  \n\n\n\nThis event is open to 25 contestants and if you are interested in signing up\, please contact Sarasota County Parks\, Recreation and Natural Resources (941) 861-5000
X-ALT-DESC;FMTTYPE=text/html:Come enjoy some fun\, sun\, and sand at the 45th annual Siesta Key Amateur Sand Sculpting&nbsp\;Contest! &nbsp\;This free\, family-friendly event is open to competitors of all ages and skill levels. &nbsp\;Cash prizes will be available and are sponsored by Friends of Sarasota County Parks and the Siesta Key Chamber of Commerce.<br />\n<br />\nCompeting categories include adult individuals\, adult teams\, children (10 years and younger) and youths (ages 11-17). &nbsp\;<br />\n<br />\nThis event is open to 25 contestants and if you are interested in signing up\, please contact Sarasota County Parks\, Recreation and Natural Resources (941) 861-5000<br />\n&nbsp\;
LOCATION:Siesta Public Beach 948 Beach Road Siesta Key\, FL 34242
UID:e.2312.1137
SEQUENCE:3
DTSTAMP:20260419T134133Z
URL:https://my.siestakeychamber.com/events/details/45th-annual-amateur-sand-sculpting-contest-1137
END:VEVENT

END:VCALENDAR
