BEGIN:VCALENDAR
VERSION:2.0
PRODID:-//ChamberMaster//Event Calendar 2.0//EN
METHOD:PUBLISH
X-PUBLISHED-TTL:P3D
REFRESH-INTERVAL:P3D
CALSCALE:GREGORIAN
BEGIN:VEVENT
DTSTART:20160609T220000Z
DTEND:20160610T020000Z
X-MICROSOFT-CDO-ALLDAYEVENT:FALSE
SUMMARY:6.9.16 Poker Tournament @ Sarasota Kennel Club
DESCRIPTION:
X-ALT-DESC;FMTTYPE=text/html:
LOCATION:
UID:e.2312.1053
SEQUENCE:3
DTSTAMP:20260419T203944Z
URL:https://my.siestakeychamber.com/events/details/6-9-16-poker-tournament-sarasota-kennel-club-06-09-2016-1053
END:VEVENT

END:VCALENDAR
