BEGIN:VCALENDAR
VERSION:2.0
PRODID:-//ChamberMaster//Event Calendar 2.0//EN
METHOD:PUBLISH
X-PUBLISHED-TTL:P3D
REFRESH-INTERVAL:P3D
CALSCALE:GREGORIAN
BEGIN:VEVENT
DTSTART:20160122T230000Z
DTEND:20160123T030000Z
X-MICROSOFT-CDO-ALLDAYEVENT:FALSE
SUMMARY:Annual Meeting & Dinner
DESCRIPTION:Join us as we announce the recipients of the 2015 Business of the Year Awards and introduce the approved slate of new Board of Directors for 2016 Click here to register!
X-ALT-DESC;FMTTYPE=text/html:<span style="font-family: Arial\, Helvetica\, sans-serif\; font-size: 12px\; line-height: 17.4px\;">Join us as we announce the recipients of the 2015 Business of the Year Awards and introduce the approved slate of new Board of Directors for 2016&nbsp\;</span><a href="http://events.r20.constantcontact.com/register/event?llr=btrlw7cab&amp\;oeidk=a07ebyuyst88fdb32fd">Click here to register!</a>
LOCATION:TPC Prestancia 4409 Tournament Players Club Drive Sarasota\, FL 34238
UID:e.2312.180
SEQUENCE:3
DTSTAMP:20260419T123740Z
URL:https://my.siestakeychamber.com/events/details/annual-meeting-dinner-01-22-2016-180
END:VEVENT

END:VCALENDAR
