BEGIN:VCALENDAR
VERSION:2.0
PRODID:-//ChamberMaster//Event Calendar 2.0//EN
METHOD:PUBLISH
X-PUBLISHED-TTL:P3D
REFRESH-INTERVAL:P3D
CALSCALE:GREGORIAN
BEGIN:VEVENT
DTSTART:20160227T150000Z
DTEND:20160228T220000Z
X-MICROSOFT-CDO-ALLDAYEVENT:FALSE
SUMMARY:Annual Siesta Key Craft Festival
DESCRIPTION:Located on the beautiful west coast of Florida\, Siesta Key is a little piece of paradise. Siesta Key is home to Sunny beaches with crystal-white\, powdery sand that stretch for miles.  Shops from the chic and elegant to the hip and funky with all sorts of fashion and a diverse collection of restaurants and eateries.\n\n\n\nJoin us at the 22nd Annual Siesta Key Craft Festival and take in the sand and the sea along Ocean Boulevard and Beach Road as you discover wonderful creations from more than 100 crafters exhibiting and selling their work in an outdoor gallery.  From photography\, paintings\, sculpture\, jewelry and more showcased from local and traveling crafters\, your visit to Siesta Key is promised to be a feast for the senses. This spectacular weekend festival is not to be missed.
X-ALT-DESC;FMTTYPE=text/html:Located on the beautiful west coast of Florida\, Siesta Key is a little piece of paradise. Siesta Key is home to Sunny beaches with crystal-white\, powdery sand that stretch for miles. &nbsp\;Shops from the chic and elegant to the hip and funky with all sorts of fashion and a diverse collection of restaurants and eateries.<br />\n<br />\nJoin us at the 22nd Annual Siesta Key Craft Festival and take in the sand and the sea along Ocean Boulevard and Beach Road as you discover wonderful creations from more than 100 crafters exhibiting and selling their work in an outdoor gallery.&nbsp\; From photography\, paintings\, sculpture\, jewelry and more showcased from local and traveling crafters\, your visit to Siesta Key is promised to be a feast for the senses. This spectacular weekend festival is not to be missed.&nbsp\;&nbsp\;<br />\n&nbsp\;
LOCATION:Ocean Boulevard & Beach Road
UID:e.2312.401
SEQUENCE:3
DTSTAMP:20260419T141237Z
URL:https://my.siestakeychamber.com/events/details/annual-siesta-key-craft-festival-02-27-2016-401
END:VEVENT

END:VCALENDAR
