BEGIN:VCALENDAR
VERSION:2.0
PRODID:-//ChamberMaster//Event Calendar 2.0//EN
METHOD:PUBLISH
X-PUBLISHED-TTL:P3D
REFRESH-INTERVAL:P3D
CALSCALE:GREGORIAN
BEGIN:VEVENT
DTSTART:20170315T220000Z
DTEND:20170316T000000Z
X-MICROSOFT-CDO-ALLDAYEVENT:FALSE
SUMMARY:Barnes & Noble Author Event - Bob & Eileen Parkinson
DESCRIPTION:Long-time Siesta Key Chamber members Bob & Eileen Parkinson of Trident Communications have recently published their book\, Be As Good As You Think You Are.\n\n\n\nCome out to Barnes & Noble to meet the authors and get your copy!
X-ALT-DESC;FMTTYPE=text/html:Long-time Siesta Key Chamber members Bob &amp\; Eileen Parkinson of Trident Communications have recently published their book\,&nbsp\;<strong><em>Be As Good As You Think You Are</em></strong>.<br />\n<br />\nCome out to Barnes &amp\; Noble to meet the authors and get your copy!
LOCATION:Barnes & Noble Sarasota II 4010 S. Tamiami Trail Sarasota\, FL 34231 (941) 923-9907
UID:e.2312.1126
SEQUENCE:3
DTSTAMP:20260419T161445Z
URL:https://my.siestakeychamber.com/events/details/barnes-noble-author-event-bob-eileen-parkinson-1126
END:VEVENT

END:VCALENDAR
