BEGIN:VCALENDAR
VERSION:2.0
PRODID:-//ChamberMaster//Event Calendar 2.0//EN
METHOD:PUBLISH
X-PUBLISHED-TTL:P3D
REFRESH-INTERVAL:P3D
CALSCALE:GREGORIAN
BEGIN:VEVENT
DTSTART:20160602T213000Z
DTEND:20160602T233000Z
X-MICROSOFT-CDO-ALLDAYEVENT:FALSE
SUMMARY:BBQ on the Beach! - New Location!
DESCRIPTION:New Location and Parking for the Annual BBQ on the Beach!\n\nA Tri-Chamber event.\n\nThe Longboat Key\, Anna Maria Island and Siesta Key Chambers of Commerce are working together to enjoy and promote our special Barrier Islands for visitors and locals alike.\n\nPark at the Lido Public Beach lot and take the Siesta Key Trolley to and from the Sandcastle Resort at Lido Beach from 5 to 7 pm.
X-ALT-DESC;FMTTYPE=text/html:New Location and Parking for the Annual BBQ on the Beach!<br />\nA Tri-Chamber event.<br />\nThe Longboat Key\, Anna Maria Island and Siesta Key Chambers of Commerce are working together to enjoy and promote our special Barrier Islands for visitors and locals alike.<br />\nPark at the Lido&nbsp\;Public Beach lot and take the Siesta Key Trolley to and from the Sandcastle Resort at Lido Beach from 5 to 7 pm.
LOCATION:HOSTED BY: NEW LOCATION! The Sandcastle Resort at Lido Beach 1540 Ben Franklin Drive Lido Key\, FL 34228
UID:e.2312.1050
SEQUENCE:3
DTSTAMP:20260419T201752Z
URL:https://my.siestakeychamber.com/events/details/bbq-on-the-beach-new-location-06-02-2016-1050
END:VEVENT

END:VCALENDAR
