BEGIN:VCALENDAR
VERSION:2.0
PRODID:-//ChamberMaster//Event Calendar 2.0//EN
METHOD:PUBLISH
X-PUBLISHED-TTL:P3D
REFRESH-INTERVAL:P3D
CALSCALE:GREGORIAN
BEGIN:VEVENT
DTSTART:20160218T223000Z
DTEND:20160219T000000Z
X-MICROSOFT-CDO-ALLDAYEVENT:FALSE
SUMMARY:BCE @ CB's Saltwater Outfitters & SK Jet Ski
DESCRIPTION:This member benefit is a great chance to connect with a larger audience of business professionals. Guests are welcome also and it is easy to bring a friend or a co-worker to this fun after-hours happy hour networking event.
X-ALT-DESC;FMTTYPE=text/html:<p style="font-family: LatoRegular\, sans-serif\; font-size: 14px\; line-height: normal\;">This member benefit is a great chance to connect with a larger audience of business professionals. Guests are welcome also and it is easy to bring a friend or a co-worker to this fun after-hours happy hour networking event.</p>\n
LOCATION:1250 Stickney Point Rd Sarasota\, FL 34242
UID:e.2312.183
SEQUENCE:3
DTSTAMP:20260419T141103Z
URL:https://my.siestakeychamber.com/events/details/bce-cb-s-saltwater-outfitters-sk-jet-ski-02-18-2016-183
END:VEVENT

END:VCALENDAR
