BEGIN:VCALENDAR
VERSION:2.0
PRODID:-//ChamberMaster//Event Calendar 2.0//EN
METHOD:PUBLISH
X-PUBLISHED-TTL:P3D
REFRESH-INTERVAL:P3D
CALSCALE:GREGORIAN
BEGIN:VEVENT
DTSTART:20170518T213000Z
DTEND:20170518T230000Z
X-MICROSOFT-CDO-ALLDAYEVENT:FALSE
SUMMARY:BCE - Kayaking SRQ
DESCRIPTION:Siesta Key Chamber Members are invited to our Business Card Exchange\, (BCE) an evening Networking Event held on the third Thursday of every month. Bring your business cards\, brochures\, and a gift to promote your business. Mingle and network with like-minded members. Create community and contacts.  Light Food and drink served.
X-ALT-DESC;FMTTYPE=text/html:Siesta Key Chamber Members are invited to our Business Card Exchange\, (BCE) an evening Networking Event held on the third Thursday of every month. Bring your business cards\, brochures\, and a gift to promote your business. Mingle and network with like-minded members. Create community and contacts. &nbsp\;Light Food and drink served.&nbsp\;
LOCATION:Thursday\, May 18th\, 2017 5:30 to 7:00 p.m. Kayaking out of the Ted Sperling Nature Park at South Lido Beach 190 Taft Dr\, Sarasota\, FL 34236
UID:e.2312.1095
SEQUENCE:3
DTSTAMP:20260419T132615Z
URL:https://my.siestakeychamber.com/events/details/bce-kayaking-srq-1095
END:VEVENT

END:VCALENDAR
