BEGIN:VCALENDAR
VERSION:2.0
PRODID:-//ChamberMaster//Event Calendar 2.0//EN
METHOD:PUBLISH
X-PUBLISHED-TTL:P3D
REFRESH-INTERVAL:P3D
CALSCALE:GREGORIAN
BEGIN:VEVENT
DTSTART:20170615T213000Z
DTEND:20170615T230000Z
X-MICROSOFT-CDO-ALLDAYEVENT:FALSE
SUMMARY:BCE @ Key Solutions Real Estate
DESCRIPTION:Siesta Key Chamber Members are invited to our Business Card Exchange\, (BCE) an evening Networking Event held on the third Thursday of every month. Bring your business cards\, brochures\, and a gift to promote your business. Mingle and network with like-minded members. Create community and contacts.  Light Food and drink served.
X-ALT-DESC;FMTTYPE=text/html:<div class="kp-header" data-ved="0ahUKEwjJlKbCvvnQAhUW0GMKHWrIDacQ3z4IdSgA" style="color: rgb(34\, 34\, 34)\; font-family: Roboto\, arial\, sans-serif\;">\n<div class="_b1m kp-hc" style="margin-bottom: 0px\; padding-top: 12px\; padding-bottom: 12px\;">\n<div class="_tN _IWg _HWg mod" data-hveid="129" data-md="16" data-ved="0ahUKEwjJlKbCvvnQAhUW0GMKHWrIDacQhygIgQEwCw" style="clear: none\; padding-top: 0px\; line-height: 1.24\;">\n<div class="_fdf _odf _rdf" style="padding-left: 15px\; padding-right: 15px\; margin-top: 0px\; position: relative\; margin-bottom: 4px\;">\n<div aria-level="3" class="_Q1n" role="heading">Siesta Key Chamber Members are invited to our Business Card Exchange\, (BCE) an evening Networking Event held on the third Thursday of every month. Bring your business cards\, brochures\, and a gift to promote your business. Mingle and network with like-minded members. Create community and contacts. &nbsp\;Light Food and drink served.&nbsp\;</div>\n</div>\n</div>\n</div>\n</div>\n
LOCATION:6021 Midnight Pass Road Siesta Key\, FL 34242
UID:e.2312.1096
SEQUENCE:3
DTSTAMP:20260419T121214Z
URL:https://my.siestakeychamber.com/events/details/bce-key-solutions-real-estate-1096
END:VEVENT

END:VCALENDAR
