BEGIN:VCALENDAR
VERSION:2.0
PRODID:-//ChamberMaster//Event Calendar 2.0//EN
METHOD:PUBLISH
X-PUBLISHED-TTL:P3D
REFRESH-INTERVAL:P3D
CALSCALE:GREGORIAN
BEGIN:VEVENT
DTSTART:20170213T220000Z
DTEND:20170214T003000Z
X-MICROSOFT-CDO-ALLDAYEVENT:FALSE
SUMMARY:BCE on LeBarge Tropical Cruises
DESCRIPTION:Come to the Siesta Key Chamber SPECIAL BCE for February 2017!\n\nMembers/Guest and Volunteers are invited to come aboard Lebarge Tropical Cruise for a Sunset Tour.  MONDAY\, FEBRUARY 13TH\, 2017.  \n\n$20 PER PERSON\, ONE GUEST ALLOWED. This is a wonderful opportunity to meet volunteers and members in one place.\n\n"Wont ya let us take you on a sea cruise?"
X-ALT-DESC;FMTTYPE=text/html:Come to the Siesta Key Chamber SPECIAL BCE for February 2017!<br />\nMembers/Guest and Volunteers are invited to come aboard Lebarge Tropical Cruise for a Sunset Tour. &nbsp\;MONDAY\, FEBRUARY 13TH\, 2017. &nbsp\;<br />\n$20 PER PERSON\, ONE GUEST ALLOWED. This is a wonderful opportunity to meet volunteers&nbsp\;and members in one place.<br />\n&quot\;Wont ya let us take you on a sea cruise?&quot\;
LOCATION:At Marina Jack's in Sarasota\, FL Ample parking or Valet Parking. Come early to find parking. Bring a jacket.
UID:e.2312.1082
SEQUENCE:3
DTSTAMP:20260419T175048Z
URL:https://my.siestakeychamber.com/events/details/bce-on-lebarge-tropical-cruises-1082
END:VEVENT

END:VCALENDAR
