BEGIN:VCALENDAR
VERSION:2.0
PRODID:-//ChamberMaster//Event Calendar 2.0//EN
METHOD:PUBLISH
X-PUBLISHED-TTL:P3D
REFRESH-INTERVAL:P3D
CALSCALE:GREGORIAN
BEGIN:VEVENT
DTSTART:20170316T213000Z
DTEND:20170316T230000Z
X-MICROSOFT-CDO-ALLDAYEVENT:FALSE
SUMMARY:BCE - Painting with a Twist
DESCRIPTION:Siesta Key Chamber Members are invited to our Business Card Exchange\, (BCE) an evening Networking Event held on the third Thursday of every month. Bring your business cards\, brochures\, and a gift to promote your business. Mingle and network with like minded members. Create community and contacts.  Light Food and drink served.
X-ALT-DESC;FMTTYPE=text/html:Siesta Key Chamber Members are invited to our Business Card Exchange\, (BCE) an evening Networking Event held on the third Thursday of every month. Bring your business cards\, brochures\, and a gift to promote your business. Mingle and network with like minded members. Create community and contacts. &nbsp\;Light Food and drink served.&nbsp\;
LOCATION:5543 Palmer Crossing Circle Sarasota\, FL 34233
UID:e.2312.1084
SEQUENCE:3
DTSTAMP:20260419T161444Z
URL:https://my.siestakeychamber.com/events/details/bce-painting-with-a-twist-1084
END:VEVENT

END:VCALENDAR
