BEGIN:VCALENDAR
VERSION:2.0
PRODID:-//ChamberMaster//Event Calendar 2.0//EN
METHOD:PUBLISH
X-PUBLISHED-TTL:P3D
REFRESH-INTERVAL:P3D
CALSCALE:GREGORIAN
BEGIN:VEVENT
DTSTART:20170119T223000Z
DTEND:20170120T000000Z
X-MICROSOFT-CDO-ALLDAYEVENT:FALSE
SUMMARY:BCE @ Siesta Key Winery -N- Bootleggers Moonshine Co.
DESCRIPTION:Siesta Key Chamber Members are invited to our Business Card Exchange\, (BCE) an evening Networking Event held on the third Thursday of every month. Bring your business cards\, brochures\, and a gift to promote your business. Mingle and network with like minded members. Create community and contacts.  Light Food and drink served.
X-ALT-DESC;FMTTYPE=text/html:Siesta Key Chamber Members are invited to our Business Card Exchange\, (BCE) an evening Networking Event held on the third Thursday of every month. Bring your business cards\, brochures\, and a gift to promote your business. Mingle and network with like minded members. Create community and contacts. &nbsp\;Light Food and drink served.&nbsp\;
LOCATION:1265 Old Stickney Point Road Siesta Key\, FL 34242 At the Siesta Key Marina Turn Left at Captain Curt's - go down to the boat to find parking. Venue is on the left.
UID:e.2312.1081
SEQUENCE:3
DTSTAMP:20260419T192236Z
URL:https://my.siestakeychamber.com/events/details/bce-siesta-key-winery-n-bootleggers-moonshine-co-1081
END:VEVENT

END:VCALENDAR
