BEGIN:VCALENDAR
VERSION:2.0
PRODID:-//ChamberMaster//Event Calendar 2.0//EN
METHOD:PUBLISH
X-PUBLISHED-TTL:P3D
REFRESH-INTERVAL:P3D
CALSCALE:GREGORIAN
BEGIN:VEVENT
DTSTART:20160721T213000Z
DTEND:20160721T230000Z
X-MICROSOFT-CDO-ALLDAYEVENT:FALSE
SUMMARY:BCE @ Stonewood Grill
DESCRIPTION:This member benefit is a great chance to connect with a larger audience of business professionals. Guests are welcome also and it is easy to bring a friend or a co-worker to this fun after-hours happy hour networking event.
X-ALT-DESC;FMTTYPE=text/html:<span style="color: rgb(68\, 68\, 68)\; font-family: LatoRegular\, sans-serif\; font-size: 14px\; line-height: normal\;">This member benefit is a great chance to connect with a larger audience of business professionals. Guests are welcome also and it is easy to bring a friend or a co-worker to this fun after-hours happy hour networking event.</span>
LOCATION:1894 Stickney Point Rd\, Sarasota\, FL 34231
UID:e.2312.193
SEQUENCE:3
DTSTAMP:20260419T220107Z
URL:https://my.siestakeychamber.com/events/details/bce-stonewood-grill-07-21-2016-193
END:VEVENT

END:VCALENDAR
