BEGIN:VCALENDAR
VERSION:2.0
PRODID:-//ChamberMaster//Event Calendar 2.0//EN
METHOD:PUBLISH
X-PUBLISHED-TTL:P3D
REFRESH-INTERVAL:P3D
CALSCALE:GREGORIAN
BEGIN:VEVENT
DTSTART:20160915T213000Z
DTEND:20160915T230000Z
X-MICROSOFT-CDO-ALLDAYEVENT:FALSE
SUMMARY:BCE @ Wild Ginger Apothecary
DESCRIPTION:This member benefit is a great chance to connect with a larger audience of business professionals. Guests are welcome also and it is easy to bring a friend or a co-worker to this fun after-hours happy hour networking event.
X-ALT-DESC;FMTTYPE=text/html:<span style="color: rgb(68\, 68\, 68)\; font-family: LatoRegular\, sans-serif\; font-size: 14px\; line-height: normal\;">This member benefit is a great chance to connect with a larger audience of business professionals. Guests are welcome also and it is easy to bring a friend or a co-worker to this fun after-hours happy hour networking event.</span>
LOCATION:6557 Superior Ave\, Sarasota\, FL 34231
UID:e.2312.198
SEQUENCE:3
DTSTAMP:20260420T010243Z
URL:https://my.siestakeychamber.com/events/details/bce-wild-ginger-apothecary-09-15-2016-198
END:VEVENT

END:VCALENDAR
