BEGIN:VCALENDAR
VERSION:2.0
PRODID:-//ChamberMaster//Event Calendar 2.0//EN
METHOD:PUBLISH
X-PUBLISHED-TTL:P3D
REFRESH-INTERVAL:P3D
CALSCALE:GREGORIAN
BEGIN:VEVENT
DTSTART:20170225T000000Z
DTEND:20170225T020000Z
X-MICROSOFT-CDO-ALLDAYEVENT:FALSE
SUMMARY:Blase Cafe Ketel One Sampling Event
DESCRIPTION:Ketel One Sampling Event at Blase Cafe & Martini Bar\n\nCome meet the Ketel One girls for a delicious sampling of Ketel One\, Ketel One Citroen\, and Ketel One Oranje!\n\n\n\nFree tastings and giveaways as well as special pricing on Ketel!
X-ALT-DESC;FMTTYPE=text/html:<b>Ketel One Sampling Event at Blase Cafe &amp\; Martini Bar</b><br />\nCome meet the Ketel One girls for a delicious sampling of Ketel One\, Ketel One Citroen\, and Ketel One Oranje!<br />\n<br />\nFree tastings and giveaways as well as special pricing on Ketel!
LOCATION:Blase Cafe & Martini Bar 5263 Ocean Blvd. Siesta Key\, FL 34242
UID:e.2312.1124
SEQUENCE:3
DTSTAMP:20260419T175028Z
URL:https://my.siestakeychamber.com/events/details/blase-cafe-ketel-one-sampling-event-1124
END:VEVENT

END:VCALENDAR
