BEGIN:VCALENDAR
VERSION:2.0
PRODID:-//ChamberMaster//Event Calendar 2.0//EN
METHOD:PUBLISH
X-PUBLISHED-TTL:P3D
REFRESH-INTERVAL:P3D
CALSCALE:GREGORIAN
BEGIN:VEVENT
DTSTART:20170228T200000Z
DTEND:20170228T230000Z
X-MICROSOFT-CDO-ALLDAYEVENT:FALSE
SUMMARY:Blase Cafe - Live Music by Evan Eastmore
DESCRIPTION:Come and enjoy some cocktails\, a delicious meal and live music by Evan Eastmore!
X-ALT-DESC;FMTTYPE=text/html:Come and enjoy some cocktails\, a delicious meal and live music by Evan Eastmore!
LOCATION:Blase Cafe & Martini Bar 5263 Ocean Blvd. Siesta Key\, FL 34242
UID:e.2312.1123
SEQUENCE:3
DTSTAMP:20260419T175344Z
URL:https://my.siestakeychamber.com/events/details/blase-cafe-live-music-by-evan-eastmore-1123
END:VEVENT

END:VCALENDAR
