BEGIN:VCALENDAR
VERSION:2.0
PRODID:-//ChamberMaster//Event Calendar 2.0//EN
METHOD:PUBLISH
X-PUBLISHED-TTL:P3D
REFRESH-INTERVAL:P3D
CALSCALE:GREGORIAN
BEGIN:VEVENT
DTSTART:20170227T220000Z
DTEND:20170228T020000Z
X-MICROSOFT-CDO-ALLDAYEVENT:FALSE
SUMMARY:Blase Cafe - Live Music by Gabriel Strange
DESCRIPTION:Enjoy live music every day at Blase Cafe & Martini Bar!\n\nFrom 5-9 p.m. enjoy live music by Gabriel Strange.
X-ALT-DESC;FMTTYPE=text/html:Enjoy live music every day at Blase Cafe &amp\; Martini Bar!<br />\nFrom 5-9 p.m. enjoy live music by Gabriel Strange.
LOCATION:Blase Cafe & Martini Bar 5263 Ocean Blvd. Siesta Key\, FL 34242
UID:e.2312.1120
SEQUENCE:3
DTSTAMP:20260419T175220Z
URL:https://my.siestakeychamber.com/events/details/blase-cafe-live-music-by-gabriel-strange-1120
END:VEVENT

END:VCALENDAR
