BEGIN:VCALENDAR
VERSION:2.0
PRODID:-//ChamberMaster//Event Calendar 2.0//EN
METHOD:PUBLISH
X-PUBLISHED-TTL:P3D
REFRESH-INTERVAL:P3D
CALSCALE:GREGORIAN
BEGIN:VEVENT
DTSTART:20170228T230000Z
DTEND:20170301T030000Z
X-MICROSOFT-CDO-ALLDAYEVENT:FALSE
SUMMARY:Blase Cafe - Live Music by Kettle of Fish
DESCRIPTION:Come and enjoy cocktails\, dinner and a live performance by Kettle of Fish!\n\nhttp://www.kettleoffish.net/
X-ALT-DESC;FMTTYPE=text/html:Come and enjoy cocktails\, dinner and a live performance by Kettle of Fish!<br />\nhttp://www.kettleoffish.net/
LOCATION:Blase Cafe & Martini Bar 5263 Ocean Blvd. Siesta Key\, FL 34242
UID:e.2312.1122
SEQUENCE:3
DTSTAMP:20260419T192513Z
URL:https://my.siestakeychamber.com/events/details/blase-cafe-live-music-by-kettle-of-fish-1122
END:VEVENT

END:VCALENDAR
