BEGIN:VCALENDAR
VERSION:2.0
PRODID:-//ChamberMaster//Event Calendar 2.0//EN
METHOD:PUBLISH
X-PUBLISHED-TTL:P3D
REFRESH-INTERVAL:P3D
CALSCALE:GREGORIAN
BEGIN:VEVENT
DTSTART:20161105T170000Z
DTEND:20161105T200000Z
X-MICROSOFT-CDO-ALLDAYEVENT:FALSE
SUMMARY:Budget Self Storage - Free Community Event
DESCRIPTION:Santa Claus is coming to town - first stop\, Budget Self Storage!  Budget will have a North Pole storage unit where kids can take pictures with Santa from 1-3.  Be sure to bring your own camera to capture that perfect Christmas card photo.  \n\n \n\nOther activities include an interactive guided tour of the facility\, photo opportunities\, games\, refreshments\, door prizes and goodie bags! \n\n\n\n**If you're interested in partnering with Budget Self Storage for this event\, please contact Robin Emanuel for more information**
X-ALT-DESC;FMTTYPE=text/html:Santa Claus is coming to town - first stop\, Budget Self Storage! &nbsp\;Budget will have a North Pole storage unit where kids can take pictures with Santa from 1-3. &nbsp\;Be sure to bring your own camera to capture that perfect Christmas card photo. &nbsp\;<br />\n&nbsp\;<br />\nOther activities include an interactive guided tour of the facility\, photo opportunities\, games\, refreshments\, door prizes and goodie bags!&nbsp\;<br />\n<br />\n**If you&#39\;re interested in partnering with Budget Self Storage for this event\, please contact Robin Emanuel for more information**
LOCATION:Budget Self Storage 4515 S. Tamiami Trail\, Sarasota (Between Bee Ridge and Proctor)
UID:e.2312.1070
SEQUENCE:3
DTSTAMP:20260419T224201Z
URL:https://my.siestakeychamber.com/events/details/budget-self-storage-free-community-event-1070
END:VEVENT

END:VCALENDAR
