BEGIN:VCALENDAR
VERSION:2.0
PRODID:-//ChamberMaster//Event Calendar 2.0//EN
METHOD:PUBLISH
X-PUBLISHED-TTL:P3D
REFRESH-INTERVAL:P3D
CALSCALE:GREGORIAN
BEGIN:VEVENT
DTSTART:20160114T223000Z
DTEND:20160115T000000Z
X-MICROSOFT-CDO-ALLDAYEVENT:FALSE
SUMMARY:Business Card Exchange @ Signarama
DESCRIPTION:Join us in an evening of networking with local Siesta Key Chamber business professionals in a social atmosphere.\n\n\n\nPlease call the Chamber and ask for Mia to register.
X-ALT-DESC;FMTTYPE=text/html:Join us in an evening of networking with local Siesta Key Chamber business professionals in a social atmosphere.<br />\n<br />\nPlease call the Chamber and ask for Mia to register.<br />\n<br />\n&nbsp\;
LOCATION:4435 South Tamiami Trail Sarasota\, FL 34231
UID:e.2312.181
SEQUENCE:3
DTSTAMP:20260419T123926Z
URL:https://my.siestakeychamber.com/events/details/business-card-exchange-signarama-01-14-2016-181
END:VEVENT

END:VCALENDAR
