BEGIN:VCALENDAR
VERSION:2.0
PRODID:-//ChamberMaster//Event Calendar 2.0//EN
METHOD:PUBLISH
X-PUBLISHED-TTL:P3D
REFRESH-INTERVAL:P3D
CALSCALE:GREGORIAN
BEGIN:VEVENT
DTSTART:20160701T153000Z
DTEND:20160701T170000Z
X-MICROSOFT-CDO-ALLDAYEVENT:FALSE
SUMMARY:Clayton's Siesta Grille Networking Luncheon
DESCRIPTION:Our increasingly popular networking luncheons are tremendous opportunity to introduce your business and make in person connections with new and current members.  You might even win one of the many gifts donated by our members. Great food and company. See you there!
X-ALT-DESC;FMTTYPE=text/html:<span style="color: rgb(4\, 78\, 116)\; font-family: 'Trebuchet MS'\, Verdana\, Helvetica\, sans-serif\; font-size: 16px\; line-height: normal\;">Our increasingly popular&nbsp\;networking luncheons are tremendous&nbsp\;opportunity to introduce your business&nbsp\;and make in person connections with new and current members. &nbsp\;You might even win one of the many gifts donated by our members. Great food and company. See you there!</span>
LOCATION:Clayton's Siesta Grille Fabulous and fresh cuisine by Chef Clayton Thompson. www.SarasotaCateringByClayton.com1256 Old Stickney Point Road Siesta Key\, Florida 34242
UID:e.2312.192
SEQUENCE:3
DTSTAMP:20260419T220145Z
URL:https://my.siestakeychamber.com/events/details/clayton-s-siesta-grille-networking-luncheon-07-01-2016-192
END:VEVENT

END:VCALENDAR
