BEGIN:VCALENDAR
VERSION:2.0
PRODID:-//ChamberMaster//Event Calendar 2.0//EN
METHOD:PUBLISH
X-PUBLISHED-TTL:P3D
REFRESH-INTERVAL:P3D
CALSCALE:GREGORIAN
BEGIN:VEVENT
DTSTART:20160818T213000Z
DTEND:20160818T230000Z
X-MICROSOFT-CDO-ALLDAYEVENT:FALSE
SUMMARY:Comfort Suites Sarasota Business Card Exchange
DESCRIPTION:This member benefit is a great chance to connect with a larger audience of business professionals. Guests are welcome also and it is easy to bring a friend or a co-worker to this fun after-hours happy hour networking event.
X-ALT-DESC;FMTTYPE=text/html:<span style="color: rgb(68\, 68\, 68)\; font-family: LatoRegular\, sans-serif\; font-size: 14px\; line-height: normal\;">This member benefit is a great chance to connect with a larger audience of business professionals. Guests are welcome also and it is easy to bring a friend or a co-worker to this fun after-hours happy hour networking event.</span>
LOCATION:5690 Honore Ave Sarasota\, Fl 34233
UID:e.2312.1049
SEQUENCE:3
DTSTAMP:20260419T234036Z
URL:https://my.siestakeychamber.com/events/details/comfort-suites-sarasota-business-card-exchange-08-18-2016-1049
END:VEVENT

END:VCALENDAR
