BEGIN:VCALENDAR
VERSION:2.0
PRODID:-//ChamberMaster//Event Calendar 2.0//EN
METHOD:PUBLISH
X-PUBLISHED-TTL:P3D
REFRESH-INTERVAL:P3D
CALSCALE:GREGORIAN
BEGIN:VEVENT
DTSTART:20170420T000000Z
DTEND:20170528T020000Z
X-MICROSOFT-CDO-ALLDAYEVENT:FALSE
SUMMARY:Dearly Departed with the Westcoast Black Theatre Troupe
DESCRIPTION:Dearly Departed\n\nBy David Bottrell and Jessie Jones\n\nApril 19 through May 27\, 2017\n\nYou'll "die laughing" in this delightful and heartwarming comedy about the dysfunctional Turpins who gather in their rural Southern home for the patriarch's funeral. The family's laugh-out-loud\, zany antics may remind you of people you know\, but are\, hopefully\, not your relatives. As replicated in the 2001 film version\, Kingdom Come\, starring Whoopi Goldberg and LL Cool J\, family situations are seldom tidy\, but often extremely funny.
X-ALT-DESC;FMTTYPE=text/html:<p style="box-sizing: border-box\; -webkit-tap-highlight-color: transparent\; margin: 0px 0px 10px\; color: rgb(255\, 255\, 255)\; font-family: Verdana\, Geneva\, sans-serif\; font-size: 12px\; background-color: rgb(0\, 0\, 0)\;"><span style="box-sizing: border-box\; -webkit-tap-highlight-color: transparent\; color: rgb(255\, 0\, 0)\; font-size: 18pt\;"><span style="box-sizing: border-box\; -webkit-tap-highlight-color: transparent\; font-weight: 700\;">Dearly Departed</span></span></p>\n\n<p style="box-sizing: border-box\; -webkit-tap-highlight-color: transparent\; margin: 0px 0px 10px\; color: rgb(255\, 255\, 255)\; font-family: Verdana\, Geneva\, sans-serif\; font-size: 12px\; background-color: rgb(0\, 0\, 0)\;">By David Bottrell and Jessie Jones</p>\n\n<p style="box-sizing: border-box\; -webkit-tap-highlight-color: transparent\; margin: 0px 0px 10px\; color: rgb(255\, 255\, 255)\; font-family: Verdana\, Geneva\, sans-serif\; font-size: 12px\; background-color: rgb(0\, 0\, 0)\;">April 19 through May 27\, 2017</p>\n\n<p style="box-sizing: border-box\; -webkit-tap-highlight-color: transparent\; margin: 0px 0px 10px\; color: rgb(255\, 255\, 255)\; font-family: Verdana\, Geneva\, sans-serif\; font-size: 12px\; background-color: rgb(0\, 0\, 0)\;">You&rsquo\;ll &ldquo\;die laughing&rdquo\; in this delightful and heartwarming comedy about the dysfunctional Turpins who gather in their rural Southern home for the patriarch&rsquo\;s funeral. The family&rsquo\;s laugh-out-loud\, zany antics may remind you of people you know\, but are\, hopefully\, not your relatives. As replicated in the 2001 film version\, Kingdom Come\, starring Whoopi Goldberg and LL Cool J\, family situations are seldom tidy\, but often extremely funny.</p>\n
LOCATION:
UID:e.2312.1142
SEQUENCE:3
DTSTAMP:20260419T134511Z
URL:https://my.siestakeychamber.com/events/details/dearly-departed-with-the-westcoast-black-theatre-troupe-1142
END:VEVENT

END:VCALENDAR
