BEGIN:VCALENDAR
VERSION:2.0
PRODID:-//ChamberMaster//Event Calendar 2.0//EN
METHOD:PUBLISH
X-PUBLISHED-TTL:P3D
REFRESH-INTERVAL:P3D
CALSCALE:GREGORIAN
BEGIN:VEVENT
DTSTART:20170520T110000Z
DTEND:20170522T000000Z
X-MICROSOFT-CDO-ALLDAYEVENT:FALSE
SUMMARY:Dig the Beach Volleyball Tournament
DESCRIPTION:On the weekend of May 20th and 21st\, Siesta Beach will host the Dig the Beach Series volleyball tournament.  This tournament is open to competitors of all levels and divisions and is open to 500 players - registration is required for all players and coaches.\n\n\n\nFor more information on this event\, click the link below:\n\nhttps://digthebeach.com/event/siesta-key-beach-520-212017/
X-ALT-DESC;FMTTYPE=text/html:On the weekend of May 20th and 21st\, Siesta Beach will host the Dig the Beach Series volleyball tournament. &nbsp\;This tournament is open to competitors of all levels and divisions and is open to 500 players - registration is required for all players and coaches.<br />\n<br />\nFor more information on this event\, click the link below:<br />\n<span style="font-family:calibri\,sans-serif\;"><span style="font-size:11.0pt\;"><a href="https://digthebeach.com/event/siesta-key-beach-520-212017/">https://digthebeach.com/event/siesta-key-beach-520-212017/</a></span></span>
LOCATION:Siesta Public Beach 948 Beach Road Siesta Key\, FL 34242
UID:e.2312.1140
SEQUENCE:3
DTSTAMP:20260419T133413Z
URL:https://my.siestakeychamber.com/events/details/dig-the-beach-volleyball-tournament-1140
END:VEVENT

END:VCALENDAR
