BEGIN:VCALENDAR
VERSION:2.0
PRODID:-//ChamberMaster//Event Calendar 2.0//EN
METHOD:PUBLISH
X-PUBLISHED-TTL:P3D
REFRESH-INTERVAL:P3D
CALSCALE:GREGORIAN
BEGIN:VEVENT
DTSTART:20170228T020000Z
DTEND:20170228T040000Z
X-MICROSOFT-CDO-ALLDAYEVENT:FALSE
SUMMARY:Drag Queen Bingo at Blase Cafe & Martini Bar
DESCRIPTION:Drag Queen Bingo at Blase Cafe & Martini Bar!\n\nCome and enjoy Drag Queen Bingo starring Lindsay Carlton-Cline! There will be prizes for bingo winners as well as dinner\, drinks and drag.
X-ALT-DESC;FMTTYPE=text/html:Drag Queen Bingo at Blase Cafe&nbsp\;&amp\; Martini Bar!<br />\nCome and enjoy Drag Queen Bingo starring Lindsay Carlton-Cline! There will be prizes for bingo winners as well as dinner\, drinks and drag.
LOCATION:Blase Cafe & Martini Bar 5263 Ocean Blvd. Siesta Key\, FL 34242
UID:e.2312.1121
SEQUENCE:3
DTSTAMP:20260419T175221Z
URL:https://my.siestakeychamber.com/events/details/drag-queen-bingo-at-blase-cafe-martini-bar-1121
END:VEVENT

END:VCALENDAR
