BEGIN:VCALENDAR
VERSION:2.0
PRODID:-//ChamberMaster//Event Calendar 2.0//EN
METHOD:PUBLISH
X-PUBLISHED-TTL:P3D
REFRESH-INTERVAL:P3D
CALSCALE:GREGORIAN
BEGIN:VEVENT
DTSTART:20170421T120000Z
DTEND:20170422T230000Z
X-MICROSOFT-CDO-ALLDAYEVENT:FALSE
SUMMARY:East End Volleyball Tournament
DESCRIPTION:On the weekend of April 21st and 22nd\, Siesta Beach will be hosting the East End Beach Volleyball Tournament.  This tournament is open to 400 players and registration is required to participate.\n\n\n\nFor more information and registration details\, please click the link below:\n\nwww.eevb.net
X-ALT-DESC;FMTTYPE=text/html:On the weekend of April 21st and 22nd\, Siesta Beach will be hosting the East End Beach Volleyball Tournament. &nbsp\;This tournament is open to 400 players and registration is required to participate.<br />\n<br />\nFor more information and registration details\, please click the link below:<br />\n<span style="font-family:calibri\,sans-serif\;"><span style="font-size:11.0pt\;"><a href="http://www.eevb.net/">www.eevb.net</a></span></span>
LOCATION:Siesta Public Beach 948 Beach Road Siesta Key\, FL 34242
UID:e.2312.1134
SEQUENCE:3
DTSTAMP:20260419T150028Z
URL:https://my.siestakeychamber.com/events/details/east-end-volleyball-tournament-1134
END:VEVENT

END:VCALENDAR
