BEGIN:VCALENDAR
VERSION:2.0
PRODID:-//ChamberMaster//Event Calendar 2.0//EN
METHOD:PUBLISH
X-PUBLISHED-TTL:P3D
REFRESH-INTERVAL:P3D
CALSCALE:GREGORIAN
BEGIN:VEVENT
DTSTART:20160327T103000Z
DTEND:20160327T103000Z
X-MICROSOFT-CDO-ALLDAYEVENT:FALSE
SUMMARY:Easter Sunrise Service
DESCRIPTION:Pine Shores will be hosting the 57th Annual Sunrise Service at 6:30 a.m. Everyone is welcome and there is no cost. Parking fills up so come early.
X-ALT-DESC;FMTTYPE=text/html:<div>&nbsp\;</div>\n\n<div>\n<table align="left" cellpadding="0" cellspacing="0" style="border-collapse: collapse\; color: rgb(103\, 103\, 103)\; font-family: verdana\; font-size: 13.3333px\; line-height: normal\; background-color: rgb(246\, 246\, 246)\;">\n	<tbody>\n		<tr>\n			<td align="left" style="border: rgb(240\, 240\, 240)\; padding: 0in 9pt\; background-color: transparent\;" valign="top">\n			<div style="margin: 0in 0in 10pt\;"><font face="Calibri"><span style="font-size: 10pt\; font-family: verdana\;">Pine Shores will be hosting the 57th Annual Sunrise Service at 6:30 a.m. Everyone is welcome and there is no cost. Parking fills up so come early.</span></font></div>\n			</td>\n		</tr>\n	</tbody>\n</table>\n</div>\n
LOCATION:Siesta Key Beach 948 Beach Road
UID:e.2312.408
SEQUENCE:3
DTSTAMP:20260419T153455Z
URL:https://my.siestakeychamber.com/events/details/easter-sunrise-service-03-27-2016-408
END:VEVENT

END:VCALENDAR
