BEGIN:VCALENDAR
VERSION:2.0
PRODID:-//ChamberMaster//Event Calendar 2.0//EN
METHOD:PUBLISH
X-PUBLISHED-TTL:P3D
REFRESH-INTERVAL:P3D
CALSCALE:GREGORIAN
BEGIN:VEVENT
DTSTART:20170203T163000Z
DTEND:20170203T180000Z
X-MICROSOFT-CDO-ALLDAYEVENT:FALSE
SUMMARY:February Networking Luncheon @ Culver's
DESCRIPTION:All Chamber members are invited to the Siesta Key Chamber's monthly networking luncheon hosted by Culver's Restaurant.  These luncheons are a great opportunity to meet and network with new and fellow Chamber members.  There will be delicious food\, great company and chances to win prizes.\n\n\n\nWe hope to see you there!
X-ALT-DESC;FMTTYPE=text/html:All Chamber members are invited to the Siesta Key Chamber&#39\;s monthly networking luncheon hosted by Culver&#39\;s Restaurant. &nbsp\;These luncheons are a great opportunity to meet and network with new and fellow Chamber members. &nbsp\;There will be delicious food\, great company and chances to win prizes.<br />\n<br />\nWe hope to see you there!
LOCATION:Culver's Restaurant 7250 S. Tamiami Trail Sarasota\, FL 34231 www.culvers.com/sarasota
UID:e.2312.1085
SEQUENCE:3
DTSTAMP:20260419T175032Z
URL:https://my.siestakeychamber.com/events/details/february-networking-luncheon-culver-s-1085
END:VEVENT

END:VCALENDAR
