BEGIN:VCALENDAR
VERSION:2.0
PRODID:-//ChamberMaster//Event Calendar 2.0//EN
METHOD:PUBLISH
X-PUBLISHED-TTL:P3D
REFRESH-INTERVAL:P3D
CALSCALE:GREGORIAN
BEGIN:VEVENT
DTSTART:20170407T120000Z
DTEND:20170410T000000Z
X-MICROSOFT-CDO-ALLDAYEVENT:FALSE
SUMMARY:Fiesta on Siesta - Collegiate Volleyball Tournament
DESCRIPTION:On the weekend of April 7th - 9th\, Siesta Beach will be hosting the annual Fiesta on Siesta collegiate beach volleyball tournament.  Come and see schools from across the country compete and enjoy some beautiful beach weather.\n\n\n\nFor more information\, click here:\n\n http://www.fiestaonsiestakey.com/index.html
X-ALT-DESC;FMTTYPE=text/html:On the weekend of April 7th - 9th\, Siesta Beach will be hosting the annual Fiesta on Siesta collegiate beach volleyball tournament. &nbsp\;Come and see schools from across the country compete and enjoy some beautiful beach weather.<br />\n<br />\nFor more information\, click here:<br />\n<span style="font-family:calibri\,sans-serif\;"><span style="font-size:11.0pt\;">&nbsp\;<a href="http://www.fiestaonsiestakey.com/index.html">http://www.fiestaonsiestakey.com/index.html</a></span></span>
LOCATION:Siesta Public Beach 948 Beach Road Siesta Key\, FL 34242
UID:e.2312.1132
SEQUENCE:3
DTSTAMP:20260419T150211Z
URL:https://my.siestakeychamber.com/events/details/fiesta-on-siesta-collegiate-volleyball-tournament-1132
END:VEVENT

END:VCALENDAR
