BEGIN:VCALENDAR
VERSION:2.0
PRODID:-//ChamberMaster//Event Calendar 2.0//EN
METHOD:PUBLISH
X-PUBLISHED-TTL:P3D
REFRESH-INTERVAL:P3D
CALSCALE:GREGORIAN
BEGIN:VEVENT
DTSTART:20161119T220000Z
DTEND:20161120T030000Z
X-MICROSOFT-CDO-ALLDAYEVENT:FALSE
SUMMARY:Fishermen's Village - Lighting of the Village
DESCRIPTION:Fishermen's Village brings in the holiday season with their spectacular Tropical Christmas "Lighting of the Village." This celebration kicks off the annual "Festival of Lights" a beautiful display of more than 1 million lights and themed decorations.\n\n\n\nThere will be a ribbon cutting ceremony with Santa and City of Punta Gorda officials at 5:30 PM.  Other activities include live music\, entertainment\, pictures with Santa\, and much more!
X-ALT-DESC;FMTTYPE=text/html:Fishermen&#39\;s Village brings in the holiday season with their spectacular Tropical Christmas &quot\;Lighting of the Village.&quot\; This celebration kicks off the annual &quot\;Festival of Lights&quot\; a beautiful display of more than 1 million lights and themed decorations.<br />\n<br />\nThere will be a ribbon cutting ceremony with Santa and City of Punta Gorda&nbsp\;officials at 5:30 PM. &nbsp\;Other activities include live music\, entertainment\, pictures with Santa\, and much more!
LOCATION:Fishermen's Village Waterfront Mall\, Resort and Marina Marion Avenue\, Punta Gorda\, FL From I-75\, take exit 164\, turn left and proceed 3 miles to Fishermen's Village
UID:e.2312.1071
SEQUENCE:3
DTSTAMP:20260419T224851Z
URL:https://my.siestakeychamber.com/events/details/fishermen-s-village-lighting-of-the-village-1071
END:VEVENT

END:VCALENDAR
