BEGIN:VCALENDAR
VERSION:2.0
PRODID:-//ChamberMaster//Event Calendar 2.0//EN
METHOD:PUBLISH
X-PUBLISHED-TTL:P3D
REFRESH-INTERVAL:P3D
CALSCALE:GREGORIAN
BEGIN:VEVENT
DTSTART:20170422T120000Z
DTEND:20170422T140000Z
X-MICROSOFT-CDO-ALLDAYEVENT:FALSE
SUMMARY:Great American Beach Cleanup
DESCRIPTION:On Saturday\, April 22 Siesta Key beaches will be participating in the Great American Cleanup initiative.  This is a nationwide beach cleanup project taking place on multiple beaches and Keep Sarasota County Beautiful is seeking up to 500 volunteers to assist with cleanup.  \n\n\n\nIf you would like to volunteer\, please contact Keep Sarasota County Beautiful or click the link below:\n\nhttps://www.scgov.net/KSCB/PublishingImages/2017%20GAC_eVite-WEB.jpg
X-ALT-DESC;FMTTYPE=text/html:On Saturday\, April 22 Siesta Key beaches will be participating in the Great American Cleanup initiative. &nbsp\;This is a nationwide beach cleanup project taking place on multiple beaches and Keep Sarasota County Beautiful is seeking up to 500 volunteers to assist with cleanup. &nbsp\;<br />\n<br />\nIf you would like to volunteer\, please contact Keep Sarasota County Beautiful or click the link below:<br />\n<span style="font-family:calibri\,sans-serif\;"><span style="font-size:11.0pt\;"><a href="https://www.scgov.net/KSCB/PublishingImages/2017%20GAC_eVite-WEB.jpg">https://www.scgov.net/KSCB/PublishingImages/2017%20GAC_eVite-WEB.jpg</a></span></span>
LOCATION:Siesta Public Beach 948 Beach Road Siesta Key\, FL 34242
UID:e.2312.1135
SEQUENCE:3
DTSTAMP:20260419T145720Z
URL:https://my.siestakeychamber.com/events/details/great-american-beach-cleanup-1135
END:VEVENT

END:VCALENDAR
