BEGIN:VCALENDAR
VERSION:2.0
PRODID:-//ChamberMaster//Event Calendar 2.0//EN
METHOD:PUBLISH
X-PUBLISHED-TTL:P3D
REFRESH-INTERVAL:P3D
CALSCALE:GREGORIAN
BEGIN:VEVENT
DTSTART:20170513T110000Z
DTEND:20170513T150000Z
X-MICROSOFT-CDO-ALLDAYEVENT:FALSE
SUMMARY:Great Mother's Day Race
DESCRIPTION:Are you looking or an active and exciting Mother's Day activity?  Come celebrate at the 6th annual Great Mother's Day Race - a 5K run/walk that's perfect for the entire family!\n\n\n\nAll participants will receive free race pictures\, a dry-fit T-shirt\, medal\, and a goodie bag.  There will be prizes and awards for the top finishers in all age groups.  There are only 300 available spots for participants and registration is required.\n\n\n\nFor more information\, click the following link:\n\nhttp://www.active.com/sarasota-fl/running/distance-running-races/the-great-mother-s-day-race-5k-run-walk-sarasota-2017
X-ALT-DESC;FMTTYPE=text/html:Are you looking or an active and exciting Mother&#39\;s Day activity? &nbsp\;Come celebrate at the 6th annual Great Mother&#39\;s Day Race - a 5K run/walk that&#39\;s perfect for the entire family!<br />\n<br />\nAll participants will receive free race pictures\, a dry-fit T-shirt\, medal\, and a goodie bag. &nbsp\;There will be prizes and awards for the top finishers in all age groups. &nbsp\;There are only 300 available spots for participants and registration is required.<br />\n<br />\nFor more information\, click the following link:<br />\n<a href="http://www.active.com/sarasota-fl/running/distance-running-races/the-great-mother-s-day-race-5k-run-walk-sarasota-2017">http://www.active.com/sarasota-fl/running/distance-running-races/the-great-mother-s-day-race-5k-run-walk-sarasota-2017</a><br />\n&nbsp\;
LOCATION:Siesta Public Beach 948 Beach Road Siesta Key\, FL 34242
UID:e.2312.1139
SEQUENCE:3
DTSTAMP:20260419T133237Z
URL:https://my.siestakeychamber.com/events/details/great-mother-s-day-race-1139
END:VEVENT

END:VCALENDAR
