BEGIN:VCALENDAR
VERSION:2.0
PRODID:-//ChamberMaster//Event Calendar 2.0//EN
METHOD:PUBLISH
X-PUBLISHED-TTL:P3D
REFRESH-INTERVAL:P3D
CALSCALE:GREGORIAN
BEGIN:VEVENT
DTSTART:20170507T110000Z
DTEND:20170507T160000Z
X-MICROSOFT-CDO-ALLDAYEVENT:FALSE
SUMMARY:Great Strides Walk
DESCRIPTION:On Sunday\, May 7th\, Siesta Beach will be hosting the Great Strides Walk.  This walk provides a great opportunity for people in our community to get involved and raise funds for the Cystic Fibrosis Foundation.  \n\n\n\nParticipants can form teams through their workplace\, clubs and organizations\, or just with family and friends.  This event features a healthy 5K walk\, plenty of children's activities\, food\, and other festivities!\n\n\n\nFor more information about the race and signing up\, please click the link below:\n\nhttp://fightcf.cff.org/site/TR/GreatStrides/36_Florida_Tampa?pg=entry&fr_id=6050
X-ALT-DESC;FMTTYPE=text/html:On Sunday\, May 7th\, Siesta Beach will be hosting the Great Strides Walk. &nbsp\;This walk provides a great opportunity for people in our community to get involved and raise funds for the Cystic Fibrosis Foundation. &nbsp\;<br />\n<br />\nParticipants can form teams through their workplace\, clubs and organizations\, or just with family and friends. &nbsp\;This event features a healthy 5K walk\, plenty of children&#39\;s activities\, food\, and other festivities!<br />\n<br />\nFor more information about the race and signing up\, please click the link below:<br />\n<a href="http://fightcf.cff.org/site/TR/GreatStrides/36_Florida_Tampa?pg=entry&amp\;fr_id=6050">http://fightcf.cff.org/site/TR/GreatStrides/36_Florida_Tampa?pg=entry&amp\;fr_id=6050</a><br />\n&nbsp\;
LOCATION:Siesta Public Beach 948 Beach Road Siesta Key\, FL 34242
UID:e.2312.1138
SEQUENCE:3
DTSTAMP:20260419T133124Z
URL:https://my.siestakeychamber.com/events/details/great-strides-walk-1138
END:VEVENT

END:VCALENDAR
