BEGIN:VCALENDAR
VERSION:2.0
PRODID:-//ChamberMaster//Event Calendar 2.0//EN
METHOD:PUBLISH
X-PUBLISHED-TTL:P3D
REFRESH-INTERVAL:P3D
CALSCALE:GREGORIAN
BEGIN:VEVENT
DTSTART;VALUE=DATE:20160813
DTEND;VALUE=DATE:20160814
TRANSP:TRANSPARENT
X-MICROSOFT-CDO-ALLDAYEVENT:TRUE
SUMMARY:Jungle Gardens Back to School Celebration
DESCRIPTION:Just because Summer vacation is coming to an end soon doesn't mean the fun can't continue for just a bit longer! Sarasota Jungle Garden's "Back to School Bash" is the perfect way to have a little more fun time before school schedules take over. For two days\, Aug. 13 and 14\, adults may bring up to three children each for free with the purchase of a full-priced admission.\n\n\n\nEnjoy activities like feeding flamingoes\, interactive animals shows\, and exploring the 10 acres of property that Jungle Gardens has to offer.
X-ALT-DESC;FMTTYPE=text/html:<span style="color:black\;"><span style="font-family:arial\,sans-serif\;"><span style="font-size:10.0pt\;">Just because Summer vacation is coming to an end soon doesn&rsquo\;t mean the fun can&rsquo\;t continue for just a bit longer! Sarasota Jungle Garden&rsquo\;s &ldquo\;<strong>Back to School Bash</strong>&rdquo\; is the perfect way to have a little more fun time before school schedules take over. For two days\, Aug. 13 and 14\, adults may bring up to three children each for <strong>free</strong> with the purchase of a full-priced admission.<br />\n<br />\nEnjoy activities like feeding flamingoes\, interactive animals shows\, and exploring the 10 acres of property that Jungle Gardens has to offer.</span></span></span>
LOCATION:Jungle Gardens Address: 3701 Bay Shore Road Sarasota\, FL 34234
UID:e.2312.1057
SEQUENCE:3
DTSTAMP:20260419T233239Z
URL:https://my.siestakeychamber.com/events/details/jungle-gardens-back-to-school-celebration-08-13-2016-1057
END:VEVENT

END:VCALENDAR
