BEGIN:VCALENDAR
VERSION:2.0
PRODID:-//ChamberMaster//Event Calendar 2.0//EN
METHOD:PUBLISH
X-PUBLISHED-TTL:P3D
REFRESH-INTERVAL:P3D
CALSCALE:GREGORIAN
BEGIN:VEVENT
DTSTART;VALUE=DATE:20161016
DTEND;VALUE=DATE:20161017
TRANSP:TRANSPARENT
X-MICROSOFT-CDO-ALLDAYEVENT:TRUE
SUMMARY:Jungle Gardens Fall Festival
DESCRIPTION:Jungle Gardens Fall Festival\n\nFall is in the air and as October arrives\, Jungle Gardens is kicking off the season with a pumpkin-themed day of family fun for the kid in all of us!\n\n\n\nSaturday (10/15) and Sunday (10/16) children's admission will be half price and the gardens will feature a variety of fall activities like face painting\, sand art\, pumpkin painting\, a bounce house\, and a food tent.  Families can also enjoy feeding flamingoes\, interactive animal shows as well as the 10 acres of jungle paradise that Jungle Gardens has to offer.
X-ALT-DESC;FMTTYPE=text/html:<strong><u>Jungle Gardens Fall Festival</u></strong><br />\nFall is in the air and as October arrives\, Jungle Gardens is kicking off the season with a pumpkin-themed day of family fun for the kid in all of us!<br />\n<br />\nSaturday (10/15) and Sunday (10/16) children&#39\;s admission will be half price and the gardens will feature a variety of fall activities like face painting\, sand art\, pumpkin painting\, a bounce house\, and a food tent. &nbsp\;Families can also enjoy feeding flamingoes\, interactive animal shows as well as the 10 acres of jungle paradise that Jungle Gardens has to offer.&nbsp\;
LOCATION:Sarasota Jungle Gardens 3701 Bay Shore Rd. Sarasota\, FL 34234
UID:e.2312.1067
SEQUENCE:3
DTSTAMP:20260420T000100Z
URL:https://my.siestakeychamber.com/events/details/jungle-gardens-fall-festival-1067
END:VEVENT

END:VCALENDAR
