BEGIN:VCALENDAR
VERSION:2.0
PRODID:-//ChamberMaster//Event Calendar 2.0//EN
METHOD:PUBLISH
X-PUBLISHED-TTL:P3D
REFRESH-INTERVAL:P3D
CALSCALE:GREGORIAN
BEGIN:VEVENT
DTSTART;VALUE=DATE:20170617
DTEND;VALUE=DATE:20170619
TRANSP:TRANSPARENT
X-MICROSOFT-CDO-ALLDAYEVENT:TRUE
SUMMARY:Jungle Gardens - Father's Day Special!
DESCRIPTION:In honor of Father's Day weekend\, Sarasota Jungle Gardens is offering all dads and granddads free admission with the purchase of a full-priced same day admission ticket on both Saturday 6/17 and Sunday 6/18.\n\n\n\nThis is a great way for dads and their families to relax and enjoy the weekend.  Families can enjoy feeding the flamingos\, holding an alligator\, watching the interactive animal shows\, and exploring acres of jungle paradise right in the heart of Sarasota.
X-ALT-DESC;FMTTYPE=text/html:In honor of Father&#39\;s Day weekend\, Sarasota Jungle Gardens is offering all dads and granddads&nbsp\;<strong>free admission</strong>&nbsp\;with the purchase of a full-priced same day admission ticket on both Saturday 6/17 and Sunday 6/18.<br />\n<br />\nThis is a great way for dads and their families to relax and enjoy the weekend. &nbsp\;Families can enjoy feeding the flamingos\, holding an alligator\, watching the interactive animal shows\, and exploring acres of jungle paradise right in the heart of Sarasota.
LOCATION:Sarasota Jungle Gardens 3701 Bay Shore Road Sarasota\, FL 34234 (941) 355-5305
UID:e.2312.1161
SEQUENCE:3
DTSTAMP:20260419T121332Z
URL:https://my.siestakeychamber.com/events/details/jungle-gardens-father-s-day-special-1161
END:VEVENT

END:VCALENDAR
