BEGIN:VCALENDAR
VERSION:2.0
PRODID:-//ChamberMaster//Event Calendar 2.0//EN
METHOD:PUBLISH
X-PUBLISHED-TTL:P3D
REFRESH-INTERVAL:P3D
CALSCALE:GREGORIAN
BEGIN:VEVENT
DTSTART;VALUE=DATE:20160903
DTEND;VALUE=DATE:20160906
TRANSP:TRANSPARENT
X-MICROSOFT-CDO-ALLDAYEVENT:TRUE
SUMMARY:Jungle Gardens Labor Day Weekend Discounts
DESCRIPTION:Summer vacation might be over but the fun doesn't have to stop. There is time for one last 'hurrah'. Labor Day Weekend is a great time to spend a cool day at Sarasota Jungle Gardens. From Saturday through Monday\, Sept. 3-5\, a "buy one ticket\, get one half off with coupon" makes it an even cooler deal\; the discount applies to a ticket of equal or lesser value. Find your coupon in the Sept. 1issue of the East County Observer\, the Bradenton Herald or on our web site\,www.sarasotajunglegardens.com.
X-ALT-DESC;FMTTYPE=text/html:<span style="color: rgb(0\, 0\, 0)\; font-family: Arial\, sans-serif\; font-size: 13.3333px\; line-height: 20px\;">Summer vacation might be over but the fun doesn&rsquo\;t have to stop. There is time for one last &lsquo\;hurrah&rsquo\;. Labor Day Weekend is a great time to spend a cool day at Sarasota Jungle Gardens. From&nbsp\;</span><span class="aBn" data-term="goog_617568338" style="border-bottom: 1px dashed rgb(204\, 204\, 204)\; position: relative\; top: -2px\; z-index: 0\; color: rgb(0\, 0\, 0)\; font-family: Arial\, sans-serif\; font-size: 13.3333px\; line-height: 20px\;" tabindex="0"><span class="aQJ" style="position: relative\; top: 2px\; z-index: -1\;">Saturday</span></span><span style="color: rgb(0\, 0\, 0)\; font-family: Arial\, sans-serif\; font-size: 13.3333px\; line-height: 20px\;">&nbsp\;through&nbsp\;</span><span class="aBn" data-term="goog_617568339" style="border-bottom: 1px dashed rgb(204\, 204\, 204)\; position: relative\; top: -2px\; z-index: 0\; color: rgb(0\, 0\, 0)\; font-family: Arial\, sans-serif\; font-size: 13.3333px\; line-height: 20px\;" tabindex="0"><span class="aQJ" style="position: relative\; top: 2px\; z-index: -1\;">Monday\, Sept. 3-5</span></span><span style="color: rgb(0\, 0\, 0)\; font-family: Arial\, sans-serif\; font-size: 13.3333px\; line-height: 20px\;">\, a &ldquo\;buy one ticket\, get one half off with coupon&rdquo\; makes it an even cooler deal\; the discount applies to a ticket of equal or lesser value. Find your coupon in the&nbsp\;</span><span class="aBn" data-term="goog_617568340" style="border-bottom: 1px dashed rgb(204\, 204\, 204)\; position: relative\; top: -2px\; z-index: 0\; color: rgb(0\, 0\, 0)\; font-family: Arial\, sans-serif\; font-size: 13.3333px\; line-height: 20px\;" tabindex="0"><span class="aQJ" style="position: relative\; top: 2px\; z-index: -1\;">Sept. </span></span><span class="aBn" data-term="goog_617568340" style="border-bottom: 1px dashed rgb(204\, 204\, 204)\; position: relative\; top: -2px\; z-index: 0\; color: rgb(0\, 0\, 0)\; font-family: Arial\, sans-serif\; font-size: 13.3333px\; line-height: 20px\;" tabindex="0"><span class="aQJ" style="position: relative\; top: 2px\; z-index: -1\;">1</span></span><span style="color: rgb(0\, 0\, 0)\; font-family: Arial\, sans-serif\; font-size: 13.3333px\; line-height: 20px\;">issue</span><span style="color: rgb(0\, 0\, 0)\; font-family: Arial\, sans-serif\; font-size: 13.3333px\; line-height: 20px\;"> of the&nbsp\;</span><i style="color: rgb(0\, 0\, 0)\; font-family: Arial\, sans-serif\; font-size: 13.3333px\; line-height: 20px\;">East County Observer</i><span style="color: rgb(0\, 0\, 0)\; font-family: Arial\, sans-serif\; font-size: 13.3333px\; line-height: 20px\;">\, the&nbsp\;</span><i style="color: rgb(0\, 0\, 0)\; font-family: Arial\, sans-serif\; font-size: 13.3333px\; line-height: 20px\;">Bradenton Herald</i><span style="color: rgb(0\, 0\, 0)\; font-family: Arial\, sans-serif\; font-size: 13.3333px\; line-height: 20px\;">&nbsp\;or on our web site\,</span><a data-saferedirecturl="https://www.google.com/url?hl=en&amp\;q=http://www.sarasotajunglegardens.com&amp\;source=gmail&amp\;ust=1471958340480000&amp\;usg=AFQjCNFLIIQ0y1ikAh5V2EEof9T775hY5g" href="http://www.sarasotajunglegardens.com/" style="color: rgb(17\, 85\, 204)\; font-family: Arial\, sans-serif\; font-size: 13.3333px\; line-height: 20px\;" target="_blank">www.sarasotajunglegardens.com</a><span style="color: rgb(0\, 0\, 0)\; font-family: Arial\, sans-serif\; font-size: 13.3333px\; line-height: 20px\;">.</span>
LOCATION:3701 Bay Shore Road\, Sarasota\, FL 34234
UID:e.2312.1061
SEQUENCE:3
DTSTAMP:20260420T005456Z
URL:https://my.siestakeychamber.com/events/details/jungle-gardens-labor-day-weekend-discounts-09-03-2016-1061
END:VEVENT

END:VCALENDAR
