BEGIN:VCALENDAR
VERSION:2.0
PRODID:-//ChamberMaster//Event Calendar 2.0//EN
METHOD:PUBLISH
X-PUBLISHED-TTL:P3D
REFRESH-INTERVAL:P3D
CALSCALE:GREGORIAN
BEGIN:VEVENT
DTSTART;VALUE=DATE:20161111
DTEND;VALUE=DATE:20161114
TRANSP:TRANSPARENT
X-MICROSOFT-CDO-ALLDAYEVENT:TRUE
SUMMARY:Jungle Gardens - Veterans Day Discounts
DESCRIPTION:To show its support of veterans and active duty United States Armed Forces personnel\, Sarasota Jungle Gardens will honor both this Veteran's Day Weekend - November 11-13.\n\n\n\nCurrent and retired military will receive free admission with the purchase of one full-priced admission ticket.\n\n\n\n"We are very grateful to all members of the military for their service to our country\,"  said Jungle Gardens Marketing Director Nancy Lavick.  "This weekend honors them and their families and the sacrifices they have made and continue to make on our behalf."
X-ALT-DESC;FMTTYPE=text/html:To show its support of veterans and active duty United States Armed Forces personnel\, Sarasota&nbsp\;Jungle Gardens will honor both this Veteran&#39\;s Day Weekend - November 11-13.<br />\n<br />\nCurrent and retired military will receive&nbsp\;<strong>free admission</strong>&nbsp\;with the purchase of one full-priced admission ticket.<br />\n<br />\n&quot\;We are very grateful to all members of the military for their service to our country\,&quot\; &nbsp\;said Jungle Gardens Marketing Director Nancy Lavick. &nbsp\;&quot\;This weekend honors them and their families and the sacrifices they have made and continue to make on our behalf.&quot\;
LOCATION:Sarasota Jungle Gardens 3701 Bay Shore Rd. Sarasota\, FL 34234 (Open 10 AM - 5 PM Daily)
UID:e.2312.1073
SEQUENCE:3
DTSTAMP:20260419T224331Z
URL:https://my.siestakeychamber.com/events/details/jungle-gardens-veterans-day-discounts-1073
END:VEVENT

END:VCALENDAR
