BEGIN:VCALENDAR
VERSION:2.0
PRODID:-//ChamberMaster//Event Calendar 2.0//EN
METHOD:PUBLISH
X-PUBLISHED-TTL:P3D
REFRESH-INTERVAL:P3D
CALSCALE:GREGORIAN
BEGIN:VEVENT
DTSTART:20160325T140000Z
DTEND:20160325T190000Z
X-MICROSOFT-CDO-ALLDAYEVENT:FALSE
SUMMARY:Jungle Trails & Bunny Tails
DESCRIPTION:The Easter Bunny and his friends are coming to Sarasota Jungle Gardens with thousands of special Easter eggs for children to find in a one-of-a-kind Easter Egg Hunt. All children?s admissions are half off the regular admission price for this special event.
X-ALT-DESC;FMTTYPE=text/html:The Easter Bunny and his friends are coming to Sarasota Jungle Gardens with thousands of special Easter eggs for children to find in a one-of-a-kind Easter Egg Hunt. All children?s admissions are half off the regular admission price for this special event.
LOCATION:Sarasota Jungle Gardens is located at 3701 Bay Shore Road\, Sarasota\, 34232
UID:e.2312.1022
SEQUENCE:3
DTSTAMP:20260419T153515Z
URL:https://my.siestakeychamber.com/events/details/jungle-trails-bunny-tails-03-25-2016-1022
END:VEVENT

END:VCALENDAR
