BEGIN:VCALENDAR
VERSION:2.0
PRODID:-//ChamberMaster//Event Calendar 2.0//EN
METHOD:PUBLISH
X-PUBLISHED-TTL:P3D
REFRESH-INTERVAL:P3D
CALSCALE:GREGORIAN
BEGIN:VEVENT
DTSTART:20170603T130000Z
DTEND:20170604T000000Z
X-MICROSOFT-CDO-ALLDAYEVENT:FALSE
SUMMARY:LA Fitness Southgate Mall Ribbon Cutting
DESCRIPTION:Join us for the Grand Opening and Ribbon Cutting for the newest LA Fitness located at the rear of the Southgate Mall just off of Siesta Drive.\n\nThe Grand Opening event is from 9 a.m. to 8 p.m. Ribbon Cutting is at 10 a.m.
X-ALT-DESC;FMTTYPE=text/html:Join us for the Grand Opening and Ribbon Cutting for the newest LA Fitness located at the rear of the Southgate Mall just off of Siesta Drive.<br />\nThe Grand Opening event is from 9 a.m. to 8 p.m. Ribbon Cutting is at 10 a.m.<br />\n&nbsp\;
LOCATION:LA Fitness - Southgate Mall 3501 S. Tamiami Trail Southgate Mall - in the back Sarasota\, FL 34239 (941) 960-8730
UID:e.2312.1160
SEQUENCE:3
DTSTAMP:20260419T121936Z
URL:https://my.siestakeychamber.com/events/details/la-fitness-southgate-mall-ribbon-cutting-1160
END:VEVENT

END:VCALENDAR
