BEGIN:VCALENDAR
VERSION:2.0
PRODID:-//ChamberMaster//Event Calendar 2.0//EN
METHOD:PUBLISH
X-PUBLISHED-TTL:P3D
REFRESH-INTERVAL:P3D
CALSCALE:GREGORIAN
BEGIN:VEVENT
DTSTART:20170429T220000Z
DTEND:20170430T020000Z
X-MICROSOFT-CDO-ALLDAYEVENT:FALSE
SUMMARY:Loveland Gala: Emerald Nights
DESCRIPTION:Loveland Gala: Emerald Nights\n\nPlease join the Loveland Center in celebrating their 55th Anniversary at the second annual Loveland Gala: Emerald Nights.  This will be an evening filled with cocktails\, dinner\, a live auction\, and plenty of dancing.  The co-chairs for this special event are Anna Foster and Nikki Betz and sponsorship opportunities are available.\n\n\n\n"Celebrating the past and ensuring the future..."
X-ALT-DESC;FMTTYPE=text/html:<strong>Loveland Gala: Emerald Nights</strong><br />\nPlease join the Loveland Center in celebrating their 55th&nbsp\;Anniversary at the second annual Loveland Gala: Emerald Nights. &nbsp\;This will be an evening filled with cocktails\, dinner\, a live auction\, and plenty of dancing. &nbsp\;The co-chairs for this special event are Anna Foster and Nikki Betz&nbsp\;and sponsorship opportunities are available.<br />\n<br />\n<strong><em>&quot\;Celebrating the past and ensuring the future...&quot\;</em></strong>
LOCATION:This event will be held at the Lamoureux Clubhouse on the Loveland Center's campus located at 157 S. Havana Road\, Venice\, FL.
UID:e.2312.1141
SEQUENCE:3
DTSTAMP:20260419T145747Z
URL:https://my.siestakeychamber.com/events/details/loveland-gala-emerald-nights-1141
END:VEVENT

END:VCALENDAR
