BEGIN:VCALENDAR
VERSION:2.0
PRODID:-//ChamberMaster//Event Calendar 2.0//EN
METHOD:PUBLISH
X-PUBLISHED-TTL:P3D
REFRESH-INTERVAL:P3D
CALSCALE:GREGORIAN
BEGIN:VEVENT
DTSTART:20160506T153000Z
DTEND:20160506T170000Z
X-MICROSOFT-CDO-ALLDAYEVENT:FALSE
SUMMARY:Luncheon at Captain Curt's
DESCRIPTION:Friday\, May 6th Networking Luncheon from 11:30 am to 1:00 pm.
X-ALT-DESC;FMTTYPE=text/html:Friday\, May 6th Networking Luncheon from 11:30 am to 1:00 pm.
LOCATION:1200 Old Stickney Point Road Siesta Key\, Florida 34242
UID:e.2312.188
SEQUENCE:3
DTSTAMP:20260419T185202Z
URL:https://my.siestakeychamber.com/events/details/luncheon-at-captain-curt-s-05-06-2016-188
END:VEVENT

END:VCALENDAR
