BEGIN:VCALENDAR
VERSION:2.0
PRODID:-//ChamberMaster//Event Calendar 2.0//EN
METHOD:PUBLISH
X-PUBLISHED-TTL:P3D
REFRESH-INTERVAL:P3D
CALSCALE:GREGORIAN
BEGIN:VEVENT
DTSTART:20170106T163000Z
DTEND:20170106T180000Z
X-MICROSOFT-CDO-ALLDAYEVENT:FALSE
SUMMARY:Luncheon at Phillippi Creek Oyster Bar
DESCRIPTION:Members are invited to our 2017 Siesta Key Chamber Networking Luncheons that are held the first Friday of every month at various Member Restaurants. Make the time to take this opportunity to meet your fellow member business owners and speak about your business to the group. Giveaway and/or gift certificates are encouraged to bring. Bring your business cards for our drawings too!
X-ALT-DESC;FMTTYPE=text/html:Members are invited to our 2017 Siesta Key Chamber Networking Luncheons that are held the first Friday of every month at various Member Restaurants. Make the time to take this opportunity to meet your fellow member business owners and speak about your business to the group. Giveaway and/or gift certificates are encouraged to bring. Bring your business cards for our drawings too!
LOCATION:5353 S. Tamiami Trail Sarasota\, FL 34231 (941)925-4444 Plenty of Parking
UID:e.2312.1079
SEQUENCE:3
DTSTAMP:20260419T200221Z
URL:https://my.siestakeychamber.com/events/details/luncheon-at-phillippi-creek-oyster-bar-1079
END:VEVENT

END:VCALENDAR
