BEGIN:VCALENDAR
VERSION:2.0
PRODID:-//ChamberMaster//Event Calendar 2.0//EN
METHOD:PUBLISH
X-PUBLISHED-TTL:P3D
REFRESH-INTERVAL:P3D
CALSCALE:GREGORIAN
BEGIN:VEVENT
DTSTART:20160902T153000Z
DTEND:20160902T170000Z
X-MICROSOFT-CDO-ALLDAYEVENT:FALSE
SUMMARY:Luncheon at Square 1 Burgers & Bar
DESCRIPTION:Our increasingly popular networking luncheons are tremendous opportunity to introduce your business and make in person connections with new and current members.  You might even win one of the many gifts donated by our members. Great food and company. See you there!
X-ALT-DESC;FMTTYPE=text/html:<span style="color: rgb(4\, 78\, 116)\; font-family: 'Trebuchet MS'\, Verdana\, Helvetica\, sans-serif\; font-size: 16px\; line-height: normal\;">Our increasingly popular&nbsp\;networking luncheons are tremendous&nbsp\;opportunity to introduce your business&nbsp\;and make in person connections with new and current members. &nbsp\;You might even win one of the many gifts donated by our members. Great food and company. See you there!</span>
LOCATION:Square 1 Burgers & Bar 6240 S. Tamiami Trail Sarasota\, FL 34231
UID:e.2312.197
SEQUENCE:3
DTSTAMP:20260420T011232Z
URL:https://my.siestakeychamber.com/events/details/luncheon-at-square-1-burgers-bar-09-02-2016-197
END:VEVENT

END:VCALENDAR
