BEGIN:VCALENDAR
VERSION:2.0
PRODID:-//ChamberMaster//Event Calendar 2.0//EN
METHOD:PUBLISH
X-PUBLISHED-TTL:P3D
REFRESH-INTERVAL:P3D
CALSCALE:GREGORIAN
BEGIN:VEVENT
DTSTART:20161007T153000Z
DTEND:20161007T170000Z
X-MICROSOFT-CDO-ALLDAYEVENT:FALSE
SUMMARY:Luncheon @ First Watch Cafe
DESCRIPTION:Our increasingly popular networking luncheons are tremendous opportunity to introduce your business and make in person connections with new and current members.  You might even win one of the many gifts donated by our members. Great food and company. See you there!
X-ALT-DESC;FMTTYPE=text/html:<span style="color: rgb(4\, 78\, 116)\; font-family: 'Trebuchet MS'\, Verdana\, Helvetica\, sans-serif\; font-size: 16px\; line-height: normal\;">Our increasingly popular&nbsp\;networking luncheons are tremendous&nbsp\;opportunity to introduce your business&nbsp\;and make in person connections with new and current members. &nbsp\;You might even win one of the many gifts donated by our members. Great food and company. See you there!</span>
LOCATION:First Watch Cafe 8383 S. Tamiami Trail Sarasota\, Florida 34238
UID:e.2312.199
SEQUENCE:3
DTSTAMP:20260419T235616Z
URL:https://my.siestakeychamber.com/events/details/luncheon-first-watch-cafe-10-07-2016-199
END:VEVENT

END:VCALENDAR
