BEGIN:VCALENDAR
VERSION:2.0
PRODID:-//ChamberMaster//Event Calendar 2.0//EN
METHOD:PUBLISH
X-PUBLISHED-TTL:P3D
REFRESH-INTERVAL:P3D
CALSCALE:GREGORIAN
BEGIN:VEVENT
DTSTART:20160205T163000Z
DTEND:20160205T180000Z
X-MICROSOFT-CDO-ALLDAYEVENT:FALSE
SUMMARY:Luncheon @ Grasshopper Tex Mex
DESCRIPTION:
X-ALT-DESC;FMTTYPE=text/html:
LOCATION:7253 S Tamiami Trail Sarasota\, FL 34231
UID:e.2312.182
SEQUENCE:3
DTSTAMP:20260419T140901Z
URL:https://my.siestakeychamber.com/events/details/luncheon-grasshopper-tex-mex-02-05-2016-182
END:VEVENT

END:VCALENDAR
